BEGIN:VCALENDAR
VERSION:2.0
PRODID:-//Observatorio de Educación URJC - ECPv6.15.20//NONSGML v1.0//EN
CALSCALE:GREGORIAN
METHOD:PUBLISH
X-ORIGINAL-URL:https://observatorioeducacionurjc.com
X-WR-CALDESC:Eventos para Observatorio de Educación URJC
REFRESH-INTERVAL;VALUE=DURATION:PT1H
X-Robots-Tag:noindex
X-PUBLISHED-TTL:PT1H
BEGIN:VTIMEZONE
TZID:UTC
BEGIN:STANDARD
TZOFFSETFROM:+0000
TZOFFSETTO:+0000
TZNAME:UTC
DTSTART:20240101T000000
END:STANDARD
END:VTIMEZONE
BEGIN:VEVENT
DTSTART;TZID=UTC:20250930T173000
DTEND;TZID=UTC:20250930T183000
DTSTAMP:20260421T134907
CREATED:20250731T181250Z
LAST-MODIFIED:20250731T181250Z
UID:703-1759253400-1759257000@observatorioeducacionurjc.com
SUMMARY:CRIANZA DIGITAL CONSCIENTE: cómo guiar a tu hijo o hija a desarrollar un criterio sólido en un mundo de desinformación.
DESCRIPTION:De qué trata:\nEducar mentes libres en un mundo de influencers y desinformación es un webinar diseñado para que puedas acompañar a tus hijos e hijas en el desarrollo de su pensamiento crítico en un mundo lleno de información rápida y a menudo confusa. Este taller está centrado en cómo comunicarte efectivamente con ellos y ellas\, desde una base de apego seguro\, fomentando un entorno de respeto y reflexión en casa. Es una oportunidad para aprender de forma conjunta y fortalecer la conexión emocional en familia. \nObjetivo principal:\nOfrecerte herramientas prácticas y conocimientos para que puedas ayudar a tus hijos e hijas a tener una opinión propia\, a cuestionar lo que ven y leen en cualquier medio y a tener una visión más crítica y responsable del mundo. \n¿Qué aprenderás en este Educonec?\n\nEstrategias de comunicación efectiva para mejorar el diálogo con tus hijos e hijas adolescentes.\nCómo fomentar un pensamiento crítico en un entorno de respeto y seguridad.\nTécnicas para acompañar a tus hijos e hijas a explorar ideas y contrastarlas sin miedo al error.\nReflexionar sobre tus emociones como persona adulta y cómo estas impactan en la forma en que reaccionas ante las opiniones de tus hijos e hijas.
URL:https://observatorioeducacionurjc.com/event/crianza-digital-consciente-como-guiar-a-tu-hijo-o-hija-a-desarrollar-un-criterio-solido-en-un-mundo-de-desinformacion/
CATEGORIES:Agenda
END:VEVENT
END:VCALENDAR