BEGIN:VCALENDAR
VERSION:2.0
PRODID:-//Observatorio de Educación URJC - ECPv6.15.20//NONSGML v1.0//EN
CALSCALE:GREGORIAN
METHOD:PUBLISH
X-ORIGINAL-URL:https://observatorioeducacionurjc.com
X-WR-CALDESC:Eventos para Observatorio de Educación URJC
REFRESH-INTERVAL;VALUE=DURATION:PT1H
X-Robots-Tag:noindex
X-PUBLISHED-TTL:PT1H
BEGIN:VTIMEZONE
TZID:UTC
BEGIN:STANDARD
TZOFFSETFROM:+0000
TZOFFSETTO:+0000
TZNAME:UTC
DTSTART:20250101T000000
END:STANDARD
END:VTIMEZONE
BEGIN:VEVENT
DTSTART;TZID=UTC:20260305T090000
DTEND;TZID=UTC:20260305T130000
DTSTAMP:20260421T143820
CREATED:20260308T185624Z
LAST-MODIFIED:20260308T185925Z
UID:726-1772701200-1772715600@observatorioeducacionurjc.com
SUMMARY:¡Aprendemos matemáticas con Origami! Aplicación práctica en Educación Primaria
DESCRIPTION:
URL:https://observatorioeducacionurjc.com/event/aprendemos-matematicas-con-origami-aplicacion-practica-en-educacion-primaria/
LOCATION:Campus de Fuenlabrada\, Fuenlabrada\, Madrid\, Spain
CATEGORIES:Agenda
END:VEVENT
END:VCALENDAR