BEGIN:VCALENDAR
VERSION:2.0
PRODID:-//Observatorio de Educación URJC - ECPv6.15.20//NONSGML v1.0//EN
CALSCALE:GREGORIAN
METHOD:PUBLISH
X-WR-CALNAME:Observatorio de Educación URJC
X-ORIGINAL-URL:https://observatorioeducacionurjc.com
X-WR-CALDESC:Eventos para Observatorio de Educación URJC
REFRESH-INTERVAL;VALUE=DURATION:PT1H
X-Robots-Tag:noindex
X-PUBLISHED-TTL:PT1H
BEGIN:VTIMEZONE
TZID:UTC
BEGIN:STANDARD
TZOFFSETFROM:+0000
TZOFFSETTO:+0000
TZNAME:UTC
DTSTART:20240101T000000
END:STANDARD
END:VTIMEZONE
BEGIN:VEVENT
DTSTART;TZID=UTC:20250127T080000
DTEND;TZID=UTC:20250224T170000
DTSTAMP:20260423T113840
CREATED:20241109T072838Z
LAST-MODIFIED:20241109T072944Z
UID:684-1737964800-1740416400@observatorioeducacionurjc.com
SUMMARY:Taller Online: Elaboración de un Trabajo Fin de Grado Basado en un Plan de Empresa
DESCRIPTION:¿Estás en los últimos cursos de tu titulación y no sabes cómo comenzar tu Trabajo Fin de Grado (TFG)? Este taller es para ti. Aprende a planificar\, desarrollar y presentar tu TFG\, con especial énfasis en la elaboración de un plan de empresa. \n**Programa:**\n– **Sesión 1:** Qué es un TFG\, normativa y desarrollo.\n🗓️ **Fecha:** 27 de enero de 2025\n🕒 **Hora:** 16:00 – 18:00\n👩‍🏫 **Imparte:** Pilar Laguna Sánchez\n📌 **Objetivo:** Conocer procedimientos y primeras pautas para elaborar un TFG. \n**Sesión 2:** Análisis estratégico.\n🗓️ **Fecha:** 29 de enero de 2025\n🕒 **Hora:** 16:00 – 18:00\n👩‍🏫 **Imparte:** Diana Benito Osorio\n📌 **Objetivo:** Definir misión\, visión\, valores y realizar un análisis estratégico. \n– **Sesión 3:** Análisis macro: cómo citar correctamente con Mendeley.\n🗓️ **Fecha:** 31 de enero de 2025\n🕒 **Hora:** 16:00 – 18:00\n👩‍🏫 **Imparte:** Ana Mª Vargas Pérez\n📌 **Objetivo:** Aprender a citar correctamente usando Mendeley. \n– **Sesión 4:** El Plan de Marketing.\n🗓️ **Fecha:** 10 de febrero de 2025\n🕒 **Hora:** 16:00 – 18:00\n👩‍🏫 **Imparte:** Rocío Calero de la Paz\n📌 **Objetivo:** Desarrollar un plan de marketing y preparar una presentación exitosa del TFG. \n– **Sesión 5:** Cómo elaborar una investigación: diseño\, cuestionarios y análisis de datos.\n🗓️ **Fecha:** 17 de febrero de 2025\n🕒 **Hora:** 16:00 – 18:00\n👩‍🏫 **Imparten:** Mónica Segovia Pérez y Niurka Guevara Otero\n📌 **Objetivo:** Diseñar metodologías y cuestionarios para tu investigación. \n– **Sesión 6:** El Plan Económico-Financiero.\n🗓️ **Fecha:** 24 de febrero de 2025\n🕒 **Hora:** 16:00 – 18:00\n👩‍🏫 **Imparten:** Lidia Muñoz Fernández y María José Lavilla\n📌 **Objetivo:** Aprender a desarrollar un plan económico-financiero. \n**Detalles importantes:**\n– **Lugar:** Online (enlace enviado el día previo a cada sesión).\n– **Metodología:** Combinación de teoría y práctica adaptada al perfil del alumnado.\n– **Materiales:** Se entregará material complementario y recursos útiles al finalizar el seminario.\n– **Reconocimiento:** 0\,6 créditos RAC (*Asistencia a todas las sesiones requerida*). \n**Inscripción:**\n¡Reserva tu plaza ahora! \nParticipa en este taller y transforma tu TFG en un proyecto sólido y bien estructurado. \n—\n¿Te gustaría incluir algún formulario o enlace de inscripción? Puedo ayudarte a adaptarlo.
URL:https://observatorioeducacionurjc.com/event/684/
LOCATION:Online
CATEGORIES:Agenda
END:VEVENT
END:VCALENDAR